BEGIN:VCALENDAR
VERSION:2.0
PRODID:-//Jokelan erankavijat ry - ECPv6.15.20//NONSGML v1.0//EN
CALSCALE:GREGORIAN
METHOD:PUBLISH
X-ORIGINAL-URL:https://jek.fi
X-WR-CALDESC:Events for Jokelan erankavijat ry
REFRESH-INTERVAL;VALUE=DURATION:PT1H
X-Robots-Tag:noindex
X-PUBLISHED-TTL:PT1H
BEGIN:VTIMEZONE
TZID:UTC
BEGIN:STANDARD
TZOFFSETFROM:+0000
TZOFFSETTO:+0000
TZNAME:UTC
DTSTART:20240101T000000
END:STANDARD
END:VTIMEZONE
BEGIN:VEVENT
DTSTART;TZID=UTC:20250701T163000
DTEND;TZID=UTC:20250701T190000
DTSTAMP:20260421T091257
CREATED:20250402T143529Z
LAST-MODIFIED:20250402T143529Z
UID:872-1751387400-1751396400@jek.fi
SUMMARY:Hirviharjoitukset 15\, Nukarin Ms.
DESCRIPTION:Hirviharjoitukset \nma 1.7. Nukarin Ms. (Kai Haapasalo) \nMaanantai/Tiistai: aloitus aikaisintaan 11.00\, harjoitus päättyy viim. klo 19.00
URL:https://jek.fi/event/hirviharjoitukset-15-nukarin-ms/
END:VEVENT
BEGIN:VEVENT
DTSTART;TZID=UTC:20250705T090000
DTEND;TZID=UTC:20250705T113000
DTSTAMP:20260421T091257
CREATED:20250629T141947Z
LAST-MODIFIED:20250629T141947Z
UID:924-1751706000-1751715000@jek.fi
SUMMARY:Talkoot
DESCRIPTION:Practical -jaosto pitää talkoot JEK:n ampuradalla\nlauantaina 5.7. klo 9.00 alkaen.\nTalkoissa kitketään ratapenkoilta lupiineja sekä muita haittakasveja. Mukaan voi ottaa työkaluja ja hanskat.
URL:https://jek.fi/event/talkoot/
END:VEVENT
BEGIN:VEVENT
DTSTART;TZID=UTC:20250707T163000
DTEND;TZID=UTC:20250707T190000
DTSTAMP:20260421T091257
CREATED:20250402T143621Z
LAST-MODIFIED:20250402T143621Z
UID:874-1751905800-1751914800@jek.fi
SUMMARY:Hirviharjoitukset 16\, Nukarin Ms.
DESCRIPTION:Hirviharjoitukset \nma 7.7.  Nukarin Ms. (Kai Haapasalo) \nMaanantai/Tiistai: aloitus aikaisintaan 11.00\, harjoitus päättyy viim. klo 19.00
URL:https://jek.fi/event/hirviharjoitukset-16-nukarin-ms/
END:VEVENT
BEGIN:VEVENT
DTSTART;TZID=UTC:20250708T163000
DTEND;TZID=UTC:20250708T190000
DTSTAMP:20260421T091257
CREATED:20250402T143803Z
LAST-MODIFIED:20250402T143803Z
UID:876-1751992200-1752001200@jek.fi
SUMMARY:Hirviharjoitukset 17\,  Vanhakylä-Ruskelan ms
DESCRIPTION:Hirviharjoitukset \nTi 08.07     Vanhakylä-Ruskelan ms (Mikko Takala) \nMaanantai/Tiistai: aloitus aikaisintaan 11.00\, harjoitus päättyy viim. klo 19.00 \n  \nTarkkuuttaminen vain alaradalla\, jossa ratamaksu 10 euroa/henkilö\, harjoitusten yhteydessä.  JEK’n jäsenet voivat osallistua seuravuorolle\, sopien valvojan kanssa.
URL:https://jek.fi/event/hirviharjoitukset-17-vanhakyla-ruskelan-ms/
END:VEVENT
BEGIN:VEVENT
DTSTART;TZID=UTC:20250714T163000
DTEND;TZID=UTC:20250714T190000
DTSTAMP:20260421T091257
CREATED:20250402T143908Z
LAST-MODIFIED:20250402T143908Z
UID:878-1752510600-1752519600@jek.fi
SUMMARY:Hirviharjoitukset 18\, Kinturin kiertäjät
DESCRIPTION:Hirviharjoitukset \nMa  14.07 Kinturin kiertäjät (Arto Ahola) \nMaanantai/Tiistai: aloitus aikaisintaan 11.00\, harjoitus päättyy viim. klo 19.00 \n  \nTarkkuuttaminen vain alaradalla\, jossa ratamaksu 10 euroa/henkilö\, harjoitusten yhteydessä.  JEK’n jäsenet voivat osallistua seuravuorolle\, sopien valvojan kanssa.
URL:https://jek.fi/event/hirviharjoitukset-18-kinturin-kiertajat/
END:VEVENT
BEGIN:VEVENT
DTSTART;TZID=UTC:20250715T163000
DTEND;TZID=UTC:20250715T190000
DTSTAMP:20260421T091257
CREATED:20250402T144014Z
LAST-MODIFIED:20250402T144046Z
UID:880-1752597000-1752606000@jek.fi
SUMMARY:Hirviharjoitukset 19\, Paijalan ms
DESCRIPTION:Hirviharjoitukset \nTi 15.07 : Paijalan ms (Petri Sorvari) \nMaanantai/Tiistai: aloitus aikaisintaan 11.00\, harjoitus päättyy viim. klo 19.00
URL:https://jek.fi/event/hirviharjoitukset-18-paijalan-ms/
END:VEVENT
BEGIN:VEVENT
DTSTART;TZID=UTC:20250719T110000
DTEND;TZID=UTC:20250719T143000
DTSTAMP:20260421T091257
CREATED:20250402T144234Z
LAST-MODIFIED:20250402T144234Z
UID:883-1752922800-1752935400@jek.fi
SUMMARY:Hirviharjoitukset 20\, Nahkelan ms.
DESCRIPTION:Hirviharjoitukset \nLa 19.07        Nahkelan ms. (Matti Heikkilä)  \nLauantaisin:  aloitus aikaisintaan 11.00 ja päättyy viim. klo 15:00 \nTarkkuuttaminen vain alaradalla\, jossa ratamaksu 10 euroa/henkilö\, harjoitusten yhteydessä.  JEK’n jäsenet voivat osallistua seuravuorolle\, sopien valvojan kanssa.
URL:https://jek.fi/event/hirviharjoitukset-20-nahkelan-ms/
END:VEVENT
BEGIN:VEVENT
DTSTART;TZID=UTC:20250721T163000
DTEND;TZID=UTC:20250721T190000
DTSTAMP:20260421T091257
CREATED:20250402T144336Z
LAST-MODIFIED:20250402T144336Z
UID:885-1753115400-1753124400@jek.fi
SUMMARY:Hirviharjoitukset 21\, Siippoon ms.
DESCRIPTION:Hirviharjoitukset \nMa  21.07             Siippoon ms. (Petri Sorvari) \nMaanantai/Tiistai: aloitus aikaisintaan 11.00\, harjoitus päättyy viim. klo 19.00 \n  \nTarkkuuttaminen vain alaradalla\, jossa ratamaksu 10 euroa/henkilö\, harjoitusten yhteydessä.  JEK’n jäsenet voivat osallistua seuravuorolle\, sopien valvojan kanssa.
URL:https://jek.fi/event/hirviharjoitukset-21-siippoon-ms/
END:VEVENT
BEGIN:VEVENT
DTSTART;TZID=UTC:20250722T163000
DTEND;TZID=UTC:20250722T183000
DTSTAMP:20260421T091257
CREATED:20250318T164301Z
LAST-MODIFIED:20250318T164301Z
UID:836-1753201800-1753209000@jek.fi
SUMMARY:HIRVIAMMUNTAKOE 1
DESCRIPTION:HIRVIAMMUNTAKOE  ti 22.07.\nilmoittautuminen klo 16.30–18.30                                avoin
URL:https://jek.fi/event/hirviammuntakoe-1/
END:VEVENT
BEGIN:VEVENT
DTSTART;TZID=UTC:20250723T170000
DTEND;TZID=UTC:20250723T170000
DTSTAMP:20260421T091257
CREATED:20250311T181527Z
LAST-MODIFIED:20250311T181527Z
UID:806-1753290000-1753290000@jek.fi
SUMMARY:Yhdistelmäkisa\, Jek-jäsenille
DESCRIPTION:ke  23.07. 2025 \nYHDISTELMÄKISA \, M-trap 25k ja I-trap 25k:\nilm. klo 17.00\nVain Jek -jäsenille\nHaulikkoammunta vain teräshauleilla
URL:https://jek.fi/event/yhdistelmakisa-jek-jasenille/
END:VEVENT
BEGIN:VEVENT
DTSTART;TZID=UTC:20250728T163000
DTEND;TZID=UTC:20250728T190000
DTSTAMP:20260421T091257
CREATED:20250402T144443Z
LAST-MODIFIED:20250402T144443Z
UID:887-1753720200-1753729200@jek.fi
SUMMARY:Hirviharjoitukset 22\, Kellokosken ms
DESCRIPTION:Hirviharjoitukset \nMa 28.07             Kellokosken ms (Tapio Silander)  \nMaanantai/Tiistai: aloitus aikaisintaan 11.00\, harjoitus päättyy viim. klo 19.00 \n  \nTarkkuuttaminen vain alaradalla\, jossa ratamaksu 10 euroa/henkilö\, harjoitusten yhteydessä.  JEK’n jäsenet voivat osallistua seuravuorolle\, sopien valvojan kanssa.
URL:https://jek.fi/event/hirviharjoitukset-22-kellokosken-ms/
END:VEVENT
BEGIN:VEVENT
DTSTART;TZID=UTC:20250729T170000
DTEND;TZID=UTC:20250729T180000
DTSTAMP:20260421T091257
CREATED:20250402T145022Z
LAST-MODIFIED:20250402T145122Z
UID:891-1753808400-1753812000@jek.fi
SUMMARY:JEK hirvimestaruus\, jäsenet
DESCRIPTION:JEK hirvimestaruus  \nTi  29.07     JEK Seuranmestaruus (10 seisovaa + 10 liikkuvaa) \nmaksu 10 eur\nIlmoittautuminen klo 17-18
URL:https://jek.fi/event/jek-hirvimestaruus-jasenet/
END:VEVENT
END:VCALENDAR