BEGIN:VCALENDAR
VERSION:2.0
PRODID:-//Jokelan erankavijat ry - ECPv6.15.20//NONSGML v1.0//EN
CALSCALE:GREGORIAN
METHOD:PUBLISH
X-ORIGINAL-URL:https://jek.fi
X-WR-CALDESC:Events for Jokelan erankavijat ry
REFRESH-INTERVAL;VALUE=DURATION:PT1H
X-Robots-Tag:noindex
X-PUBLISHED-TTL:PT1H
BEGIN:VTIMEZONE
TZID:UTC
BEGIN:STANDARD
TZOFFSETFROM:+0000
TZOFFSETTO:+0000
TZNAME:UTC
DTSTART:20240101T000000
END:STANDARD
END:VTIMEZONE
BEGIN:VEVENT
DTSTART;TZID=UTC:20250821T170000
DTEND;TZID=UTC:20250821T180000
DTSTAMP:20260421T085619
CREATED:20250318T170207Z
LAST-MODIFIED:20250318T170207Z
UID:854-1755795600-1755799200@jek.fi
SUMMARY:Hirvenjuoksu ja -kävely + seuranmestaruus
DESCRIPTION:Hirvenjuoksu ja -kävely to 21.08.\n3-osainen sarjakilpailu\, lopputuloksissa huom.             av/sarjak\n2 parasta tulosta. ilmoittautuminen klo 17–18\,\nmaksu: 15 €/kerta            \nSekä\nto 21.08.\nHIRVENJUOKSU ja -KÄVELY   SEURANMESTARUUS + PALKINTOJEN JAKO
URL:https://jek.fi/event/hirvenjuoksu-ja-kavely-seuranmestaruus/
END:VEVENT
END:VCALENDAR