BEGIN:VCALENDAR
VERSION:2.0
PRODID:-//Jokelan erankavijat ry - ECPv6.15.20//NONSGML v1.0//EN
CALSCALE:GREGORIAN
METHOD:PUBLISH
X-WR-CALNAME:Jokelan erankavijat ry
X-ORIGINAL-URL:https://jek.fi
X-WR-CALDESC:Events for Jokelan erankavijat ry
REFRESH-INTERVAL;VALUE=DURATION:PT1H
X-Robots-Tag:noindex
X-PUBLISHED-TTL:PT1H
BEGIN:VTIMEZONE
TZID:UTC
BEGIN:STANDARD
TZOFFSETFROM:+0000
TZOFFSETTO:+0000
TZNAME:UTC
DTSTART:20240101T000000
END:STANDARD
END:VTIMEZONE
BEGIN:VEVENT
DTSTART;TZID=UTC:20250807T170000
DTEND;TZID=UTC:20250807T180000
DTSTAMP:20260421T085114
CREATED:20250318T165843Z
LAST-MODIFIED:20250318T165843Z
UID:850-1754586000-1754589600@jek.fi
SUMMARY:Hirvenjuoksu ja -kävely + PM-Hirvenjuoksu
DESCRIPTION:Hirvenjuoksu ja -kävely to 07.08.\n3-osainen sarjakilpailu\, lopputuloksissa huom.             av/sarjak\n2 parasta tulosta. ilmoittautuminen klo 17–18\,\nmaksu: 15 €/kerta \n 
URL:https://jek.fi/event/hirvenjuoksu-ja-kavely-pm-hirvenjuoksu/
LOCATION:Jokelan ampumarata
END:VEVENT
END:VCALENDAR