BEGIN:VCALENDAR
VERSION:2.0
PRODID:-//Jokelan erankavijat ry - ECPv6.15.20//NONSGML v1.0//EN
CALSCALE:GREGORIAN
METHOD:PUBLISH
X-WR-CALNAME:Jokelan erankavijat ry
X-ORIGINAL-URL:https://jek.fi
X-WR-CALDESC:Events for Jokelan erankavijat ry
REFRESH-INTERVAL;VALUE=DURATION:PT1H
X-Robots-Tag:noindex
X-PUBLISHED-TTL:PT1H
BEGIN:VTIMEZONE
TZID:UTC
BEGIN:STANDARD
TZOFFSETFROM:+0000
TZOFFSETTO:+0000
TZNAME:UTC
DTSTART:20240101T000000
END:STANDARD
END:VTIMEZONE
BEGIN:VEVENT
DTSTART;TZID=UTC:20250728T163000
DTEND;TZID=UTC:20250728T190000
DTSTAMP:20260421T090922
CREATED:20250402T144443Z
LAST-MODIFIED:20250402T144443Z
UID:887-1753720200-1753729200@jek.fi
SUMMARY:Hirviharjoitukset 22\, Kellokosken ms
DESCRIPTION:Hirviharjoitukset \nMa 28.07             Kellokosken ms (Tapio Silander)  \nMaanantai/Tiistai: aloitus aikaisintaan 11.00\, harjoitus päättyy viim. klo 19.00 \n  \nTarkkuuttaminen vain alaradalla\, jossa ratamaksu 10 euroa/henkilö\, harjoitusten yhteydessä.  JEK’n jäsenet voivat osallistua seuravuorolle\, sopien valvojan kanssa.
URL:https://jek.fi/event/hirviharjoitukset-22-kellokosken-ms/
END:VEVENT
END:VCALENDAR