BEGIN:VCALENDAR
VERSION:2.0
PRODID:-//Jokelan erankavijat ry - ECPv6.15.20//NONSGML v1.0//EN
CALSCALE:GREGORIAN
METHOD:PUBLISH
X-WR-CALNAME:Jokelan erankavijat ry
X-ORIGINAL-URL:https://jek.fi
X-WR-CALDESC:Events for Jokelan erankavijat ry
REFRESH-INTERVAL;VALUE=DURATION:PT1H
X-Robots-Tag:noindex
X-PUBLISHED-TTL:PT1H
BEGIN:VTIMEZONE
TZID:UTC
BEGIN:STANDARD
TZOFFSETFROM:+0000
TZOFFSETTO:+0000
TZNAME:UTC
DTSTART:20240101T000000
END:STANDARD
END:VTIMEZONE
BEGIN:VEVENT
DTSTART;TZID=UTC:20250522T080000
DTEND;TZID=UTC:20250522T180000
DTSTAMP:20260421T130733
CREATED:20250318T165350Z
LAST-MODIFIED:20250318T165350Z
UID:846-1747900800-1747936800@jek.fi
SUMMARY:Hirvenjuoksu ja -kävely 3/4
DESCRIPTION:Hirvenjuoksu ja -kävely to 22.05\n4-osainen sarjakilpailu\, lopputuloksissa huom.             av/sarjak\n3 parasta tulosta. ilmoittautuminen klo 17–18\,\nmaksu: 15 €/kerta
URL:https://jek.fi/event/hirvenjuoksu-ja-kavely-3-4/
LOCATION:Jokelan ampumarata
END:VEVENT
END:VCALENDAR