BEGIN:VCALENDAR
VERSION:2.0
PRODID:-//Jokelan erankavijat ry - ECPv6.15.20//NONSGML v1.0//EN
CALSCALE:GREGORIAN
METHOD:PUBLISH
X-WR-CALNAME:Jokelan erankavijat ry
X-ORIGINAL-URL:https://jek.fi
X-WR-CALDESC:Events for Jokelan erankavijat ry
REFRESH-INTERVAL;VALUE=DURATION:PT1H
X-Robots-Tag:noindex
X-PUBLISHED-TTL:PT1H
BEGIN:VTIMEZONE
TZID:UTC
BEGIN:STANDARD
TZOFFSETFROM:+0000
TZOFFSETTO:+0000
TZNAME:UTC
DTSTART:20240101T000000
END:STANDARD
END:VTIMEZONE
BEGIN:VEVENT
DTSTART;TZID=UTC:20250517T100000
DTEND;TZID=UTC:20250517T130000
DTSTAMP:20260421T130757
CREATED:20250402T145910Z
LAST-MODIFIED:20250402T145910Z
UID:895-1747476000-1747486800@jek.fi
SUMMARY:Pistoolirata varattu\, Jokelan Reserviupseerit
DESCRIPTION:Pistoolirata varattu la 17.5. klo 10-13 \nJokelan Reserviupseerit
URL:https://jek.fi/event/pistoolirata-varattu-jokelan-reserviupseerit/
END:VEVENT
END:VCALENDAR