BEGIN:VCALENDAR
VERSION:2.0
PRODID:-//Jokelan erankavijat ry - ECPv6.15.20//NONSGML v1.0//EN
CALSCALE:GREGORIAN
METHOD:PUBLISH
X-WR-CALNAME:Jokelan erankavijat ry
X-ORIGINAL-URL:https://jek.fi
X-WR-CALDESC:Events for Jokelan erankavijat ry
REFRESH-INTERVAL;VALUE=DURATION:PT1H
X-Robots-Tag:noindex
X-PUBLISHED-TTL:PT1H
BEGIN:VTIMEZONE
TZID:UTC
BEGIN:STANDARD
TZOFFSETFROM:+0000
TZOFFSETTO:+0000
TZNAME:UTC
DTSTART:20240101T000000
END:STANDARD
END:VTIMEZONE
BEGIN:VEVENT
DTSTART;TZID=UTC:20250429T163000
DTEND;TZID=UTC:20250429T190000
DTSTAMP:20260421T130823
CREATED:20250317T173225Z
LAST-MODIFIED:20250317T173225Z
UID:813-1745944200-1745953200@jek.fi
SUMMARY:Hirviharjoitukset 1 Vanhakylä-Ruskelan ms.
DESCRIPTION:Hirviharjoitukset\nTi 29.04: Vanhakylä-Ruskelan ms. (Mikko Takala) \nMaanantai/Tiistai: aloitus aikaisintaan 11.00\,  harjoitus päättyy viim. klo 19.00\nSeuratkaa radalla olevia ohjeita! \n 
URL:https://jek.fi/event/hirviharjoitukset-1-vanhakyla-ruskelan-ms/
END:VEVENT
END:VCALENDAR